Package: INSPEcT Version: 1.36.0 Command: /Library/Frameworks/R.framework/Resources/bin/R CMD build --keep-empty-dirs --no-resave-data INSPEcT StartedAt: 2025-01-31 01:53:17 -0500 (Fri, 31 Jan 2025) EndedAt: 2025-01-31 02:00:40 -0500 (Fri, 31 Jan 2025) EllapsedTime: 442.3 seconds RetCode: 0 Status: OK PackageFile: INSPEcT_1.36.0.tar.gz PackageFileSize: 58.56 MiB