Package: INSPEcT Version: 1.36.0 Command: /Library/Frameworks/R.framework/Resources/bin/R CMD INSTALL INSPEcT StartedAt: 2025-01-30 16:40:02 -0500 (Thu, 30 Jan 2025) EndedAt: 2025-01-30 16:41:11 -0500 (Thu, 30 Jan 2025) EllapsedTime: 69.2 seconds RetCode: 0 Status: OK