Package: INSPEcT Version: 1.36.0 Command: /Library/Frameworks/R.framework/Resources/bin/R CMD build --keep-empty-dirs --no-resave-data INSPEcT StartedAt: 2025-01-30 20:02:34 -0500 (Thu, 30 Jan 2025) EndedAt: 2025-01-30 20:21:59 -0500 (Thu, 30 Jan 2025) EllapsedTime: 1164.7 seconds RetCode: 0 Status: OK PackageFile: INSPEcT_1.36.0.tar.gz PackageFileSize: 7.814 MiB