Package: INSPEcT Version: 1.36.0 Command: /Library/Frameworks/R.framework/Resources/bin/R CMD INSTALL INSPEcT StartedAt: 2025-01-30 15:57:33 -0500 (Thu, 30 Jan 2025) EndedAt: 2025-01-30 15:59:58 -0500 (Thu, 30 Jan 2025) EllapsedTime: 144.6 seconds RetCode: 0 Status: OK