Package: INSPEcT Version: 1.36.0 Command: F:\biocbuild\bbs-3.20-bioc\R\bin\R.exe CMD INSTALL INSPEcT StartedAt: 2025-02-03 16:43:24 -0500 (Mon, 03 Feb 2025) EndedAt: 2025-02-03 16:45:39 -0500 (Mon, 03 Feb 2025) EllapsedTime: 135.0 seconds RetCode: 0 Status: OK