Package: INSPEcT Version: 1.36.0 Command: /home/biocbuild/R/R/bin/R CMD build --keep-empty-dirs --no-resave-data INSPEcT StartedAt: 2025-01-31 00:24:54 -0000 (Fri, 31 Jan 2025) EndedAt: 2025-01-31 00:37:06 -0000 (Fri, 31 Jan 2025) EllapsedTime: 732.3 seconds RetCode: 0 Status: OK PackageFile: INSPEcT_1.36.0.tar.gz PackageFileSize: 57.93 MiB