Package: IONiseR Version: 2.30.0 Command: rm -rf IONiseR.buildbin-libdir && mkdir IONiseR.buildbin-libdir && /Users/biocbuild/BBS/utils/build-universal.sh IONiseR_2.30.0.tar.gz /Library/Frameworks/R.framework/Resources/bin/R IONiseR.buildbin-libdir StartedAt: 2025-01-31 13:01:13 -0500 (Fri, 31 Jan 2025) EndedAt: 2025-01-31 13:02:30 -0500 (Fri, 31 Jan 2025) EllapsedTime: 76.3 seconds RetCode: 0 Status: OK PackageFile: IONiseR_2.30.0.tgz PackageFileSize: 4.297 MiB