Package: IONiseR Version: 2.30.0 Command: /Library/Frameworks/R.framework/Resources/bin/R CMD INSTALL IONiseR StartedAt: 2025-01-30 15:49:49 -0500 (Thu, 30 Jan 2025) EndedAt: 2025-01-30 15:51:01 -0500 (Thu, 30 Jan 2025) EllapsedTime: 72.4 seconds RetCode: 0 Status: OK