Package: IONiseR Version: 2.30.0 Command: /home/biocbuild/bbs-3.20-bioc/R/bin/R CMD check --install=check:IONiseR.install-out.txt --library=/home/biocbuild/bbs-3.20-bioc/R/site-library --timings IONiseR_2.30.0.tar.gz StartedAt: 2025-01-30 23:16:33 -0500 (Thu, 30 Jan 2025) EndedAt: 2025-01-30 23:21:47 -0500 (Thu, 30 Jan 2025) EllapsedTime: 314.3 seconds RetCode: 0 Status: OK CheckDir: IONiseR.Rcheck Warnings: 0