Package: IONiseR Version: 2.30.0 Command: rm -rf IONiseR.buildbin-libdir && mkdir IONiseR.buildbin-libdir && F:\biocbuild\bbs-3.20-bioc\R\bin\R.exe CMD INSTALL --build --library=IONiseR.buildbin-libdir IONiseR_2.30.0.tar.gz StartedAt: 2025-01-31 08:53:05 -0500 (Fri, 31 Jan 2025) EndedAt: 2025-01-31 08:54:06 -0500 (Fri, 31 Jan 2025) EllapsedTime: 60.9 seconds RetCode: 0 Status: OK PackageFile: IONiseR_2.30.0.zip PackageFileSize: 2.605 MiB