Package: IRanges Version: 2.40.1 Command: rm -rf IRanges.buildbin-libdir && mkdir IRanges.buildbin-libdir && /Users/biocbuild/BBS/utils/build-universal.sh IRanges_2.40.1.tar.gz /Library/Frameworks/R.framework/Resources/bin/R IRanges.buildbin-libdir StartedAt: 2025-02-05 16:20:05 -0500 (Wed, 05 Feb 2025) EndedAt: 2025-02-05 16:21:20 -0500 (Wed, 05 Feb 2025) EllapsedTime: 75.8 seconds RetCode: 0 Status: OK PackageFile: IRanges_2.40.1.tgz PackageFileSize: 2.211 MiB