Package: IRanges Version: 2.40.1 Command: /Library/Frameworks/R.framework/Resources/bin/R CMD build --keep-empty-dirs --no-resave-data IRanges StartedAt: 2025-01-31 01:58:49 -0500 (Fri, 31 Jan 2025) EndedAt: 2025-01-31 02:00:20 -0500 (Fri, 31 Jan 2025) EllapsedTime: 91.0 seconds RetCode: 0 Status: OK PackageFile: IRanges_2.40.1.tar.gz PackageFileSize: 470.2 KiB