Package: IRanges Version: 2.40.1 Command: /Library/Frameworks/R.framework/Resources/bin/R CMD INSTALL IRanges StartedAt: 2025-01-30 15:09:24 -0500 (Thu, 30 Jan 2025) EndedAt: 2025-01-30 15:10:31 -0500 (Thu, 30 Jan 2025) EllapsedTime: 66.9 seconds RetCode: 0 Status: OK