Package: IRanges Version: 2.40.1 Command: /Library/Frameworks/R.framework/Resources/bin/R CMD INSTALL IRanges StartedAt: 2025-01-30 15:10:04 -0500 (Thu, 30 Jan 2025) EndedAt: 2025-01-30 15:11:31 -0500 (Thu, 30 Jan 2025) EllapsedTime: 87.8 seconds RetCode: 0 Status: OK