Package: IRanges Version: 2.40.1 Command: chmod a+r IRanges -R && F:\biocbuild\bbs-3.20-bioc\R\bin\R.exe CMD build --keep-empty-dirs --no-resave-data IRanges StartedAt: 2025-02-03 19:55:45 -0500 (Mon, 03 Feb 2025) EndedAt: 2025-02-03 19:58:38 -0500 (Mon, 03 Feb 2025) EllapsedTime: 173.2 seconds RetCode: 0 Status: OK PackageFile: IRanges_2.40.1.tar.gz PackageFileSize: 470.2 KiB