Package: IRanges Version: 2.40.1 Command: F:\biocbuild\bbs-3.20-bioc\R\bin\R.exe CMD check --no-multiarch --install=check:IRanges.install-out.txt --library=F:\biocbuild\bbs-3.20-bioc\R\library --no-vignettes --timings IRanges_2.40.1.tar.gz StartedAt: 2025-02-04 02:59:31 -0500 (Tue, 04 Feb 2025) EndedAt: 2025-02-04 03:03:24 -0500 (Tue, 04 Feb 2025) EllapsedTime: 232.5 seconds RetCode: 0 Status: WARNINGS CheckDir: IRanges.Rcheck Warnings: 3