Package: IRanges Version: 2.40.1 Command: /home/biocbuild/R/R/bin/R CMD build --keep-empty-dirs --no-resave-data IRanges StartedAt: 2025-02-11 00:17:31 -0000 (Tue, 11 Feb 2025) EndedAt: 2025-02-11 00:19:04 -0000 (Tue, 11 Feb 2025) EllapsedTime: 93.0 seconds RetCode: 0 Status: OK PackageFile: IRanges_2.40.1.tar.gz PackageFileSize: 462 KiB