Package: ISLET Version: 1.8.0 Command: /Library/Frameworks/R.framework/Resources/bin/R CMD build --keep-empty-dirs --no-resave-data ISLET StartedAt: 2025-02-04 02:04:35 -0500 (Tue, 04 Feb 2025) EndedAt: 2025-02-04 02:08:12 -0500 (Tue, 04 Feb 2025) EllapsedTime: 217.8 seconds RetCode: 0 Status: OK PackageFile: ISLET_1.8.0.tar.gz PackageFileSize: 2.185 MiB