Package: ISLET Version: 1.8.0 Command: /Library/Frameworks/R.framework/Resources/bin/R CMD INSTALL ISLET StartedAt: 2025-02-10 15:49:21 -0500 (Mon, 10 Feb 2025) EndedAt: 2025-02-10 15:49:51 -0500 (Mon, 10 Feb 2025) EllapsedTime: 30.5 seconds RetCode: 0 Status: OK