Package: ISLET Version: 1.8.0 Command: /Library/Frameworks/R.framework/Resources/bin/R CMD check --install=check:ISLET.install-out.txt --library=/Library/Frameworks/R.framework/Resources/library --no-vignettes --timings ISLET_1.8.0.tar.gz StartedAt: 2025-02-04 05:23:42 -0500 (Tue, 04 Feb 2025) EndedAt: 2025-02-04 05:38:17 -0500 (Tue, 04 Feb 2025) EllapsedTime: 875.4 seconds RetCode: 0 Status: OK CheckDir: ISLET.Rcheck Warnings: 0