Package: ISLET Version: 1.8.0 Command: /Library/Frameworks/R.framework/Resources/bin/R CMD INSTALL ISLET StartedAt: 2025-02-03 15:33:18 -0500 (Mon, 03 Feb 2025) EndedAt: 2025-02-03 15:34:15 -0500 (Mon, 03 Feb 2025) EllapsedTime: 56.8 seconds RetCode: 0 Status: OK