Package: ISLET Version: 1.8.0 Command: /home/biocbuild/bbs-3.20-bioc/R/bin/R CMD check --install=check:ISLET.install-out.txt --library=/home/biocbuild/bbs-3.20-bioc/R/site-library --timings ISLET_1.8.0.tar.gz StartedAt: 2025-02-10 23:21:28 -0500 (Mon, 10 Feb 2025) EndedAt: 2025-02-10 23:33:48 -0500 (Mon, 10 Feb 2025) EllapsedTime: 740.0 seconds RetCode: 0 Status: OK CheckDir: ISLET.Rcheck Warnings: 0