Package: ISLET Version: 1.8.0 Command: /home/biocbuild/bbs-3.20-bioc/R/bin/R CMD INSTALL ISLET StartedAt: 2025-02-03 15:27:20 -0500 (Mon, 03 Feb 2025) EndedAt: 2025-02-03 15:27:45 -0500 (Mon, 03 Feb 2025) EllapsedTime: 24.7 seconds RetCode: 0 Status: OK