Package: ISLET Version: 1.8.0 Command: chmod a+r ISLET -R && F:\biocbuild\bbs-3.20-bioc\R\bin\R.exe CMD build --keep-empty-dirs --no-resave-data ISLET StartedAt: 2025-02-03 19:57:45 -0500 (Mon, 03 Feb 2025) EndedAt: 2025-02-03 20:05:29 -0500 (Mon, 03 Feb 2025) EllapsedTime: 464.3 seconds RetCode: 0 Status: OK PackageFile: ISLET_1.8.0.tar.gz PackageFileSize: 2.185 MiB