Package: ISLET Version: 1.8.0 Command: F:\biocbuild\bbs-3.20-bioc\R\bin\R.exe CMD check --no-multiarch --install=check:ISLET.install-out.txt --library=F:\biocbuild\bbs-3.20-bioc\R\library --no-vignettes --timings ISLET_1.8.0.tar.gz StartedAt: 2025-02-04 03:02:56 -0500 (Tue, 04 Feb 2025) EndedAt: 2025-02-04 03:19:14 -0500 (Tue, 04 Feb 2025) EllapsedTime: 978.7 seconds RetCode: 0 Status: OK CheckDir: ISLET.Rcheck Warnings: 0