Package: ISLET Version: 1.8.0 Command: /home/biocbuild/R/R/bin/R CMD INSTALL ISLET StartedAt: 2025-02-03 20:35:35 -0000 (Mon, 03 Feb 2025) EndedAt: 2025-02-03 20:36:09 -0000 (Mon, 03 Feb 2025) EllapsedTime: 34.2 seconds RetCode: 0 Status: OK