Package: ISoLDE Version: 1.34.0 Command: /Library/Frameworks/R.framework/Resources/bin/R CMD build --keep-empty-dirs --no-resave-data ISoLDE StartedAt: 2025-02-11 02:11:35 -0500 (Tue, 11 Feb 2025) EndedAt: 2025-02-11 02:11:38 -0500 (Tue, 11 Feb 2025) EllapsedTime: 2.3 seconds RetCode: 0 Status: OK PackageFile: ISoLDE_1.34.0.tar.gz PackageFileSize: 1.228 MiB