Package: ISoLDE Version: 1.34.0 Command: /Library/Frameworks/R.framework/Resources/bin/R CMD check --install=check:ISoLDE.install-out.txt --library=/Library/Frameworks/R.framework/Resources/library --no-vignettes --timings ISoLDE_1.34.0.tar.gz StartedAt: 2024-11-09 05:26:29 -0500 (Sat, 09 Nov 2024) EndedAt: 2024-11-09 05:30:52 -0500 (Sat, 09 Nov 2024) EllapsedTime: 263.5 seconds RetCode: 0 Status: WARNINGS CheckDir: ISoLDE.Rcheck Warnings: 1