Package: ISoLDE Version: 1.34.0 Command: rm -rf ISoLDE.buildbin-libdir && mkdir ISoLDE.buildbin-libdir && /Users/biocbuild/BBS/utils/build-universal.sh ISoLDE_1.34.0.tar.gz /Library/Frameworks/R.framework/Resources/bin/R ISoLDE.buildbin-libdir StartedAt: 2025-02-04 13:14:06 -0500 (Tue, 04 Feb 2025) EndedAt: 2025-02-04 13:14:18 -0500 (Tue, 04 Feb 2025) EllapsedTime: 12.7 seconds RetCode: 0 Status: OK PackageFile: ISoLDE_1.34.0.tgz PackageFileSize: 1.234 MiB