Package: ISoLDE Version: 1.34.0 Command: /Library/Frameworks/R.framework/Resources/bin/R CMD build --keep-empty-dirs --no-resave-data ISoLDE StartedAt: 2025-02-10 19:50:50 -0500 (Mon, 10 Feb 2025) EndedAt: 2025-02-10 19:50:52 -0500 (Mon, 10 Feb 2025) EllapsedTime: 2.3 seconds RetCode: 0 Status: OK PackageFile: ISoLDE_1.34.0.tar.gz PackageFileSize: 1.228 MiB