Package: ISoLDE Version: 1.34.0 Command: /Library/Frameworks/R.framework/Resources/bin/R CMD check --install=check:ISoLDE.install-out.txt --library=/Library/Frameworks/R.framework/Resources/library --no-vignettes --timings ISoLDE_1.34.0.tar.gz StartedAt: 2025-02-04 05:26:03 -0500 (Tue, 04 Feb 2025) EndedAt: 2025-02-04 05:28:32 -0500 (Tue, 04 Feb 2025) EllapsedTime: 149.6 seconds RetCode: 0 Status: WARNINGS CheckDir: ISoLDE.Rcheck Warnings: 1