Package: ISoLDE Version: 1.34.0 Command: /home/biocbuild/R/R/bin/R CMD build --keep-empty-dirs --no-resave-data ISoLDE StartedAt: 2025-02-04 00:29:50 -0000 (Tue, 04 Feb 2025) EndedAt: 2025-02-04 00:29:52 -0000 (Tue, 04 Feb 2025) EllapsedTime: 2.0 seconds RetCode: 0 Status: OK PackageFile: ISoLDE_1.34.0.tar.gz PackageFileSize: 1.228 MiB