Package: ISoLDE Version: 1.34.0 Command: /home/biocbuild/R/R/bin/R CMD check --install=check:ISoLDE.install-out.txt --library=/home/biocbuild/R/R/site-library --no-vignettes --timings ISoLDE_1.34.0.tar.gz StartedAt: 2025-02-04 08:12:04 -0000 (Tue, 04 Feb 2025) EndedAt: 2025-02-04 08:13:20 -0000 (Tue, 04 Feb 2025) EllapsedTime: 76.1 seconds RetCode: 0 Status: WARNINGS CheckDir: ISoLDE.Rcheck Warnings: 1