Package: ITALICS Version: 2.66.0 Command: rm -rf ITALICS.buildbin-libdir && mkdir ITALICS.buildbin-libdir && /Users/biocbuild/BBS/utils/build-universal.sh ITALICS_2.66.0.tar.gz /Library/Frameworks/R.framework/Resources/bin/R ITALICS.buildbin-libdir StartedAt: 2025-02-01 15:27:00 -0500 (Sat, 01 Feb 2025) EndedAt: 2025-02-01 15:27:32 -0500 (Sat, 01 Feb 2025) EllapsedTime: 32.8 seconds RetCode: 0 Status: OK PackageFile: ITALICS_2.66.0.tgz PackageFileSize: 554.3 KiB