Package: ITALICS Version: 2.66.0 Command: /Library/Frameworks/R.framework/Resources/bin/R CMD build --keep-empty-dirs --no-resave-data ITALICS StartedAt: 2025-01-31 02:05:56 -0500 (Fri, 31 Jan 2025) EndedAt: 2025-01-31 02:07:07 -0500 (Fri, 31 Jan 2025) EllapsedTime: 71.5 seconds RetCode: 0 Status: OK PackageFile: ITALICS_2.66.0.tar.gz PackageFileSize: 615.5 KiB