Package: ITALICS Version: 2.66.0 Command: /Library/Frameworks/R.framework/Resources/bin/R CMD INSTALL ITALICS StartedAt: 2025-01-30 15:41:06 -0500 (Thu, 30 Jan 2025) EndedAt: 2025-01-30 15:41:35 -0500 (Thu, 30 Jan 2025) EllapsedTime: 29.2 seconds RetCode: 0 Status: OK