Package: ITALICS Version: 2.66.0 Command: rm -rf ITALICS.buildbin-libdir && mkdir ITALICS.buildbin-libdir && F:\biocbuild\bbs-3.20-bioc\R\bin\R.exe CMD INSTALL --build --library=ITALICS.buildbin-libdir ITALICS_2.66.0.tar.gz StartedAt: 2025-02-04 08:46:46 -0500 (Tue, 04 Feb 2025) EndedAt: 2025-02-04 08:47:22 -0500 (Tue, 04 Feb 2025) EllapsedTime: 36.9 seconds RetCode: 0 Status: OK PackageFile: ITALICS_2.66.0.zip PackageFileSize: 414.9 KiB