Package: ITALICS Version: 2.66.0 Command: F:\biocbuild\bbs-3.20-bioc\R\bin\R.exe CMD check --no-multiarch --install=check:ITALICS.install-out.txt --library=F:\biocbuild\bbs-3.20-bioc\R\library --no-vignettes --timings ITALICS_2.66.0.tar.gz StartedAt: 2025-02-04 03:04:59 -0500 (Tue, 04 Feb 2025) EndedAt: 2025-02-04 03:08:33 -0500 (Tue, 04 Feb 2025) EllapsedTime: 214.4 seconds RetCode: 0 Status: OK CheckDir: ITALICS.Rcheck Warnings: 0