Package: ITALICS Version: 2.66.0 Command: F:\biocbuild\bbs-3.20-bioc\R\bin\R.exe CMD INSTALL ITALICS StartedAt: 2025-01-30 16:00:18 -0500 (Thu, 30 Jan 2025) EndedAt: 2025-01-30 16:00:52 -0500 (Thu, 30 Jan 2025) EllapsedTime: 34.5 seconds RetCode: 0 Status: OK