Package: ITALICS Version: 2.66.0 Command: /home/biocbuild/R/R/bin/R CMD INSTALL ITALICS StartedAt: 2025-02-03 20:36:28 -0000 (Mon, 03 Feb 2025) EndedAt: 2025-02-03 20:36:59 -0000 (Mon, 03 Feb 2025) EllapsedTime: 30.5 seconds RetCode: 0 Status: OK