Package: IdeoViz Version: 1.42.0 Command: rm -rf IdeoViz.buildbin-libdir && mkdir IdeoViz.buildbin-libdir && /Users/biocbuild/BBS/utils/build-universal.sh IdeoViz_1.42.0.tar.gz /Library/Frameworks/R.framework/Resources/bin/R IdeoViz.buildbin-libdir StartedAt: 2025-02-05 16:15:29 -0500 (Wed, 05 Feb 2025) EndedAt: 2025-02-05 16:16:08 -0500 (Wed, 05 Feb 2025) EllapsedTime: 38.5 seconds RetCode: 0 Status: OK PackageFile: IdeoViz_1.42.0.tgz PackageFileSize: 448.5 KiB