Package: IdeoViz Version: 1.42.0 Command: /Library/Frameworks/R.framework/Resources/bin/R CMD INSTALL IdeoViz StartedAt: 2025-02-10 16:00:38 -0500 (Mon, 10 Feb 2025) EndedAt: 2025-02-10 16:01:15 -0500 (Mon, 10 Feb 2025) EllapsedTime: 36.4 seconds RetCode: 0 Status: OK