Package: IdeoViz Version: 1.42.0 Command: /home/biocbuild/R/R/bin/R CMD build --keep-empty-dirs --no-resave-data IdeoViz StartedAt: 2024-11-20 01:28:37 -0000 (Wed, 20 Nov 2024) EndedAt: 2024-11-20 01:28:38 -0000 (Wed, 20 Nov 2024) EllapsedTime: 1.0 seconds RetCode: 0 Status: OK PackageFile: IdeoViz_1.42.0.tar.gz PackageFileSize: 411.8 KiB