Package: IdeoViz Version: 1.42.0 Command: /Library/Frameworks/R.framework/Resources/bin/R CMD build --keep-empty-dirs --no-resave-data IdeoViz StartedAt: 2025-02-03 19:41:20 -0500 (Mon, 03 Feb 2025) EndedAt: 2025-02-03 19:41:22 -0500 (Mon, 03 Feb 2025) EllapsedTime: 2.2 seconds RetCode: 0 Status: OK PackageFile: IdeoViz_1.42.0.tar.gz PackageFileSize: 411.8 KiB