Package: IdeoViz Version: 1.42.0 Command: /Library/Frameworks/R.framework/Resources/bin/R CMD check --install=check:IdeoViz.install-out.txt --library=/Library/Frameworks/R.framework/Resources/library --no-vignettes --timings IdeoViz_1.42.0.tar.gz StartedAt: 2025-02-04 05:07:20 -0500 (Tue, 04 Feb 2025) EndedAt: 2025-02-04 05:11:01 -0500 (Tue, 04 Feb 2025) EllapsedTime: 221.4 seconds RetCode: 0 Status: WARNINGS CheckDir: IdeoViz.Rcheck Warnings: 2