Package: IdeoViz Version: 1.42.0 Command: /home/biocbuild/bbs-3.20-bioc/R/bin/R CMD build --keep-empty-dirs --no-resave-data --md5 IdeoViz StartedAt: 2025-02-03 17:51:28 -0500 (Mon, 03 Feb 2025) EndedAt: 2025-02-03 17:51:29 -0500 (Mon, 03 Feb 2025) EllapsedTime: 1.0 seconds RetCode: 0 Status: OK PackageFile: IdeoViz_1.42.0.tar.gz PackageFileSize: 413 KiB