Package: IdeoViz Version: 1.42.0 Command: /home/biocbuild/bbs-3.20-bioc/R/bin/R CMD check --install=check:IdeoViz.install-out.txt --library=/home/biocbuild/bbs-3.20-bioc/R/site-library --timings IdeoViz_1.42.0.tar.gz StartedAt: 2025-02-03 23:18:20 -0500 (Mon, 03 Feb 2025) EndedAt: 2025-02-03 23:20:37 -0500 (Mon, 03 Feb 2025) EllapsedTime: 137.2 seconds RetCode: 0 Status: WARNINGS CheckDir: IdeoViz.Rcheck Warnings: 2