Package: IdeoViz Version: 1.42.0 Command: rm -rf IdeoViz.buildbin-libdir && mkdir IdeoViz.buildbin-libdir && F:\biocbuild\bbs-3.20-bioc\R\bin\R.exe CMD INSTALL --build --library=IdeoViz.buildbin-libdir IdeoViz_1.42.0.tar.gz StartedAt: 2025-02-04 08:43:26 -0500 (Tue, 04 Feb 2025) EndedAt: 2025-02-04 08:44:15 -0500 (Tue, 04 Feb 2025) EllapsedTime: 49.2 seconds RetCode: 0 Status: OK PackageFile: IdeoViz_1.42.0.zip PackageFileSize: 452.1 KiB