Package: IdeoViz Version: 1.42.0 Command: F:\biocbuild\bbs-3.20-bioc\R\bin\R.exe CMD check --no-multiarch --install=check:IdeoViz.install-out.txt --library=F:\biocbuild\bbs-3.20-bioc\R\library --no-vignettes --timings IdeoViz_1.42.0.tar.gz StartedAt: 2025-02-04 02:50:21 -0500 (Tue, 04 Feb 2025) EndedAt: 2025-02-04 02:52:56 -0500 (Tue, 04 Feb 2025) EllapsedTime: 154.5 seconds RetCode: 0 Status: WARNINGS CheckDir: IdeoViz.Rcheck Warnings: 2