Package: IdeoViz Version: 1.42.0 Command: F:\biocbuild\bbs-3.20-bioc\R\bin\R.exe CMD INSTALL IdeoViz StartedAt: 2025-02-03 16:42:48 -0500 (Mon, 03 Feb 2025) EndedAt: 2025-02-03 16:43:26 -0500 (Mon, 03 Feb 2025) EllapsedTime: 38.6 seconds RetCode: 0 Status: OK